BEGIN:VCALENDAR
VERSION:2.0
PRODID:-//Gemeinde Lehmen - ECPv6.15.20//NONSGML v1.0//EN
CALSCALE:GREGORIAN
METHOD:PUBLISH
X-WR-CALNAME:Gemeinde Lehmen
X-ORIGINAL-URL:https://gemeinde-lehmen.de
X-WR-CALDESC:Veranstaltungen für Gemeinde Lehmen
REFRESH-INTERVAL;VALUE=DURATION:PT1H
X-Robots-Tag:noindex
X-PUBLISHED-TTL:PT1H
BEGIN:VTIMEZONE
TZID:UTC
BEGIN:STANDARD
TZOFFSETFROM:+0000
TZOFFSETTO:+0000
TZNAME:UTC
DTSTART:20250101T000000
END:STANDARD
END:VTIMEZONE
BEGIN:VEVENT
DTSTART;VALUE=DATE:20260425
DTEND;VALUE=DATE:20260426
DTSTAMP:20260422T124931
CREATED:20260421T130258Z
LAST-MODIFIED:20260421T130258Z
UID:4327-1777075200-1777161599@gemeinde-lehmen.de
SUMMARY:Veranstaltung Test 1
DESCRIPTION:
URL:https://gemeinde-lehmen.de/event/veranstaltung-test-1
LOCATION:Pfarrheim Lehmen\, Hauptstraße 18a\, Lehmen\, 56332\, Deutschland
END:VEVENT
BEGIN:VEVENT
DTSTART;TZID=UTC:20260430T180000
DTEND;TZID=UTC:20260430T210000
DTSTAMP:20260422T124931
CREATED:20260421T130155Z
LAST-MODIFIED:20260421T130155Z
UID:4325-1777572000-1777582800@gemeinde-lehmen.de
SUMMARY:StellDichEin April
DESCRIPTION:
URL:https://gemeinde-lehmen.de/event/stelldichein-april
LOCATION:Am Glockenturm\, Lehmen\, Hauptstraße 70\, Lehmen\, 56332\, Deutschland
END:VEVENT
END:VCALENDAR