BEGIN:VCALENDAR
VERSION:2.0
PRODID:-//Gemeinde Lehmen - ECPv6.15.20//NONSGML v1.0//EN
CALSCALE:GREGORIAN
METHOD:PUBLISH
X-WR-CALNAME:Gemeinde Lehmen
X-ORIGINAL-URL:https://gemeinde-lehmen.de
X-WR-CALDESC:Veranstaltungen für Gemeinde Lehmen
REFRESH-INTERVAL;VALUE=DURATION:PT1H
X-Robots-Tag:noindex
X-PUBLISHED-TTL:PT1H
BEGIN:VTIMEZONE
TZID:UTC
BEGIN:STANDARD
TZOFFSETFROM:+0000
TZOFFSETTO:+0000
TZNAME:UTC
DTSTART:20180101T000000
END:STANDARD
END:VTIMEZONE
BEGIN:VEVENT
DTSTART;TZID=UTC:20260220T190000
DTEND;TZID=UTC:20260220T220000
DTSTAMP:20260424T092252
CREATED:20260213T121402Z
LAST-MODIFIED:20260213T121415Z
UID:4287-1771614000-1771624800@gemeinde-lehmen.de
SUMMARY:Jahreshauptversammlung
DESCRIPTION:
URL:https://gemeinde-lehmen.de/event/jahreshauptversammlung
LOCATION:Pfarrheim Lehmen\, Hauptstraße 18a\, Lehmen\, 56332\, Deutschland
END:VEVENT
BEGIN:VEVENT
DTSTART;TZID=UTC:20260217T080000
DTEND;TZID=UTC:20260217T170000
DTSTAMP:20260424T092252
CREATED:20260213T121259Z
LAST-MODIFIED:20260213T121259Z
UID:4285-1771315200-1771347600@gemeinde-lehmen.de
SUMMARY:Digitaler Botschafter
DESCRIPTION:
URL:https://gemeinde-lehmen.de/event/digitaler-botschafter
END:VEVENT
BEGIN:VEVENT
DTSTART;TZID=UTC:20191123T130000
DTEND;TZID=UTC:20191123T210000
DTSTAMP:20260424T092252
CREATED:20191118T195214Z
LAST-MODIFIED:20191118T205733Z
UID:98-1574514000-1574542800@gemeinde-lehmen.de
SUMMARY:Adventszauber
DESCRIPTION:
URL:https://gemeinde-lehmen.de/event/adventszauber
LOCATION:Am Glockenturm\, Lehmen\, Hauptstraße 70\, Lehmen\, 56332\, Deutschland
CATEGORIES:Heimatverein
END:VEVENT
BEGIN:VEVENT
DTSTART;TZID=UTC:20191121T200000
DTEND;TZID=UTC:20191121T230000
DTSTAMP:20260424T092252
CREATED:20191118T194809Z
LAST-MODIFIED:20191118T205944Z
UID:94-1574366400-1574377200@gemeinde-lehmen.de
SUMMARY:Gemeinderatssitzung
DESCRIPTION:am Donnerstag\, 21.11.2019\, 20:00 Uhr im Pfarrheim Lehmen\nTagesordnung:\n\nTOP 01 Beratung und Beschlussfassung über die Stromvergabe\nTOP 02 Beratung und Beschlussfassung betr. Neubaugebiet Moselsürsch\nTOP 03 Aufhebung des Beschlusses vom 22.08.2019 Antrag SPD/FWG\nTOP 04 Antrag SPD/FWG Aufstellungsbeschluss Lehmen 1 u.a.\nTOP 05 Bauvoranfrage: Bauangelegenheiten „In den Backeswiesen“\nBauvoranfrage: Bauangelegenheiten „Auf den Gärten“\nTOP 05 Mitteilungen / Anregungen / Verschiedenes
URL:https://gemeinde-lehmen.de/event/gemeinderatssitzung
LOCATION:Pfarrheim Lehmen\, Hauptstraße 18a\, Lehmen\, 56332\, Deutschland
CATEGORIES:Gemeinderat
END:VEVENT
BEGIN:VEVENT
DTSTART;TZID=UTC:20191031T180000
DTEND;TZID=UTC:20191031T210000
DTSTAMP:20260424T092252
CREATED:20191017T192158Z
LAST-MODIFIED:20191118T200456Z
UID:60-1572544800-1572555600@gemeinde-lehmen.de
SUMMARY:StellDichEin
DESCRIPTION:Thomas Nickenig präsentiert sich am 31.10.2019 mit seinen Weinen\, Winzersekt und Glühwein\, gemeinsam mit  Hof-Nepomuk (Angie Haupt). Es gibt Burger und Grillwürstchen vom Maifeld-Rind\, Bergische Käseburger (vegetarische Alternative)\, sowie Leckereien aus dem Scheunenlädchen.
URL:https://gemeinde-lehmen.de/event/stelldichein
LOCATION:Castorplatz\, Lehmen\, 56332\, Deutschland
CATEGORIES:Ortsgemeinde
END:VEVENT
BEGIN:VEVENT
DTSTART;TZID=UTC:20191024T190000
DTEND;TZID=UTC:20191024T210000
DTSTAMP:20260424T092252
CREATED:20191017T192545Z
LAST-MODIFIED:20191017T192545Z
UID:63-1571943600-1571950800@gemeinde-lehmen.de
SUMMARY:Informationsveranstaltung Energiekataster
DESCRIPTION:Klimaschutz und Energiewende sind aktuelle Themen\, denen sich unsere Gemeinde nicht verschließen will. Energie aus fossilen Energieträgern ist nicht nur endlich und umweltschädlich\, sondern wird in Zukunft auch immer teurer werden. Veränderungen werden also zwangsläufig kommen müssen. Das Energiekataster soll hierzu als Grundlage dienen. Die Arbeitsgruppe möchte noch in diesem Jahr mit der Erhebung der erforderlichen Daten beginnen. \nDaher lädt die Ortsgemeinde für Donnerstag\, den 24.10.2019 um 19.00 Uhr alle Bürgerinnen und Bürger zu einer Informationsveranstaltung ins Pfarrheim Lehmen ein. Wir möchten über Hintergründe\, Ziele und die nächsten Schritte zur Vorgehensweise informieren.
URL:https://gemeinde-lehmen.de/event/informationsveranstaltung-energiekataster
END:VEVENT
END:VCALENDAR